View In:
ArcGIS JavaScript
ArcGIS Online Map Viewer
ArcGIS Earth
Service Description: Hosted/hi_final_cost_thsecpm
Name: Hosted/hi_final_cost_thsecpm
Description:
Single Fused Map Cache: false
Extent:
XMin: -519997.9224447885
YMin: 655406.2105815336
XMax: 231502.0775552115
YMax: 1117466.2105815336
Spatial Reference: 102007
(102007)
Initial Extent:
XMin: -519997.9224447885
YMin: 655406.2105815336
XMax: 231502.0775552115
YMax: 1117466.2105815336
Spatial Reference: 102007
(102007)
Full Extent:
XMin: -519997.9224447885
YMin: 655406.2105815336
XMax: 231502.0775552115
YMax: 1117466.2105815336
Spatial Reference: 102007
(102007)
Pixel Size X: 90.0
Pixel Size Y: 90.0
Band Count: 1
Pixel Type: U16
RasterFunction Infos: {"rasterFunctionInfos": [{
"help": "",
"name": "None",
"description": ""
}]}
Mensuration Capabilities: Basic
Inspection Capabilities:
Has Histograms: false
Has Colormap: false
Has Multi Dimensions : false
Rendering Rule:
Min Scale: 0
Max Scale: 0
Copyright Text:
Service Data Type: esriImageServiceDataTypeGeneric
Min Values: 34
Max Values: 720
Mean Values: 665.58084464306
Standard Deviation Values: 177.83007909403
Object ID Field:
Fields:
None
Default Mosaic Method: Center
Allowed Mosaic Methods:
SortField:
SortValue: N/A
Mosaic Operator: First
Default Compression Quality: 75
Default Resampling Method: Bilinear
Max Record Count: null
Max Image Height: 4100
Max Image Width: 15000
Max Download Image Count: null
Max Mosaic Image Count: null
Allow Raster Function: true
Allow Copy: true
Allow Analysis: true
Allow Compute TiePoints: false
Supports Statistics: false
Supports Advanced Queries: false
Use StandardizedQueries: false
Raster Type Infos:
Name: Raster Dataset
Description: Supports all ArcGIS Raster Datasets
Help:
Has Raster Attribute Table: false
Edit Fields Info: N/A
Ownership Based AccessControl For Rasters: N/A
Child Resources:
Info
Statistics
Key Properties
Legend
Raster Function Infos
Supported Operations:
Export Image
Identify
Measure
Compute Histograms
Compute Statistics Histograms
Get Samples
Compute Class Statistics
Query Boundary
Compute Pixel Location
Compute Angles
Validate
Project