View In:
ArcGIS JavaScript
ArcGIS Online Map Viewer
ArcGIS Earth
Service Description: Hosted/FARhi_far_code_level_1_wgs84_fillNDImage
Name: Hosted/FARhi_far_code_level_1_wgs84_fillNDImage
Description:
Single Fused Map Cache: false
Extent:
XMin: -178.45
YMin: 18.850000003870008
XMax: -154.75000000948
YMax: 28.524999999999995
Spatial Reference: 4326
(4326)
Initial Extent:
XMin: -178.45
YMin: 18.850000003870008
XMax: -154.75000000948
YMax: 28.524999999999995
Spatial Reference: 4326
(4326)
Full Extent:
XMin: -178.45
YMin: 18.850000003870008
XMax: -154.75000000948
YMax: 28.524999999999995
Spatial Reference: 4326
(4326)
Pixel Size X: 8.333333329999994E-4
Pixel Size Y: 8.333333329999989E-4
Band Count: 1
Pixel Type: U8
RasterFunction Infos: {"rasterFunctionInfos": [{
"help": "",
"name": "None",
"description": ""
}]}
Mensuration Capabilities: Basic
Inspection Capabilities:
Has Histograms: true
Has Colormap: false
Has Multi Dimensions : false
Rendering Rule:
Min Scale: 0
Max Scale: 0
Copyright Text:
Service Data Type: esriImageServiceDataTypeGeneric
Min Values: 0
Max Values: 1
Mean Values: 0.85480787985176998
Standard Deviation Values: 0.35229452709423997
Object ID Field:
Fields:
None
Default Mosaic Method: Center
Allowed Mosaic Methods:
SortField:
SortValue: N/A
Mosaic Operator: First
Default Compression Quality: 75
Default Resampling Method: Bilinear
Max Record Count: null
Max Image Height: 4100
Max Image Width: 15000
Max Download Image Count: null
Max Mosaic Image Count: null
Allow Raster Function: true
Allow Copy: true
Allow Analysis: true
Allow Compute TiePoints: false
Supports Statistics: false
Supports Advanced Queries: false
Use StandardizedQueries: false
Raster Type Infos:
Name: Raster Dataset
Description: Supports all ArcGIS Raster Datasets
Help:
Has Raster Attribute Table: true
Edit Fields Info: N/A
Ownership Based AccessControl For Rasters: N/A
Child Resources:
Info
Raster Attribute Table
Histograms
Statistics
Key Properties
Legend
Raster Function Infos
Supported Operations:
Export Image
Identify
Measure
Compute Histograms
Compute Statistics Histograms
Get Samples
Compute Class Statistics
Query Boundary
Compute Pixel Location
Compute Angles
Validate
Project